BEGIN:VCALENDAR
VERSION:2.0
PRODID:-//Tukios.com/
BEGIN:VEVENT
UID:ad92f939-ded8-4b6b-b9c2-8e10feb96012@obituaries.thomasmillermortuary.com
DTSTAMP:20260422T224846Z
DTSTART:20260427T180000Z
DTEND:20260427T200000Z
SUMMARY:Funeral Service
DESCRIPTION:
URL:https://obituaries.thomasmillermortuary.com/anitra-pugh-lowe
LOCATION:Holy Land Church of God & Christ 1024 N G St  San Bernardino CA 
	92410
GEO:34.1180701;-117.2991454
END:VEVENT
END:VCALENDAR