BEGIN:VCALENDAR
VERSION:2.0
PRODID:-//Tukios.com/
BEGIN:VEVENT
UID:7c8ee848-22b0-4735-8f88-dfa196c40cce@obituaries.thomasmillermortuary.com
DTSTAMP:20260424T221755Z
DTSTART:20260507T181500Z
DTEND:20260507T184500Z
SUMMARY:Graveside Service
DESCRIPTION:David and Carol will be laid to rest together on this day
URL:https://obituaries.thomasmillermortuary.com/david-rohr
LOCATION: 22495 Van Buren Blvd  Riverside CA 92518
GEO:33.8856688;-117.2793495
END:VEVENT
END:VCALENDAR