BEGIN:VCALENDAR
VERSION:2.0
PRODID:-//Tukios.com/
BEGIN:VEVENT
UID:6caeeb50-1ece-482a-ab36-d11858b7e6fd@obituaries.thomasmillermortuary.com
DTSTAMP:20260422T235941Z
DTSTART:20260428T230000Z
DTEND:20260429T030000Z
SUMMARY:Visitation
DESCRIPTION:
URL:https://obituaries.thomasmillermortuary.com/freddy-dominguez-jr
LOCATION: 4933 La Sierra Ave  Riverside CA 92505
GEO:33.9203109;-117.4889904
END:VEVENT
END:VCALENDAR