BEGIN:VCALENDAR
VERSION:2.0
PRODID:-//Tukios.com/
BEGIN:VEVENT
UID:38c7154b-a7df-44cd-940d-ff2f1aa51dae@obituaries.thomasmillermortuary.com
DTSTAMP:20260423T000241Z
DTSTART:20260429T180000Z
DTEND:20260429T193000Z
SUMMARY:Funeral Service
DESCRIPTION:
URL:https://obituaries.thomasmillermortuary.com/freddy-dominguez-jr
LOCATION: 4933 La Sierra Ave  Riverside CA 92505
GEO:33.9203109;-117.4889904
END:VEVENT
END:VCALENDAR