BEGIN:VCALENDAR
VERSION:2.0
PRODID:-//Tukios.com/
BEGIN:VEVENT
UID:8d3b7d28-d80b-4048-9802-c9bba85903ae@obituaries.thomasmillermortuary.com
DTSTAMP:20260422T235600Z
DTSTART:20260429T193000Z
DTEND:20260429T201500Z
SUMMARY:Graveside Service
DESCRIPTION:
URL:https://obituaries.thomasmillermortuary.com/freddy-dominguez-jr
LOCATION: 11500 Arlington Ave  Riverside CA 92505
GEO:33.9537952;-117.5180298
END:VEVENT
END:VCALENDAR