BEGIN:VCALENDAR
VERSION:2.0
PRODID:-//Tukios.com/
BEGIN:VEVENT
UID:3365d288-ba09-413e-ab67-93b1cc222fe6@obituaries.thomasmillermortuary.com
DTSTAMP:20260422T184921Z
DTSTART:20260516T170000Z
DTEND:20260516T180000Z
SUMMARY:Viewing
DESCRIPTION:
URL:https://obituaries.thomasmillermortuary.com/miguel-gonzalez
LOCATION: 1118 E 6th St  Corona CA 92879
GEO:33.8741833;-117.5517518
END:VEVENT
END:VCALENDAR