BEGIN:VCALENDAR
VERSION:2.0
PRODID:-//Tukios.com/
BEGIN:VEVENT
UID:348cffbb-d889-4a0c-b6f2-b64b585b44ef@obituaries.thomasmillermortuary.com
DTSTAMP:20260422T184404Z
DTSTART:20260516T180000Z
DTEND:20260516T190000Z
SUMMARY:Funeral Service
DESCRIPTION:
URL:https://obituaries.thomasmillermortuary.com/miguel-gonzalez
LOCATION: 1118 E 6th St  Corona CA 92879
GEO:33.8741833;-117.5517518
END:VEVENT
END:VCALENDAR