BEGIN:VCALENDAR
VERSION:2.0
PRODID:-//Tukios.com/
BEGIN:VEVENT
UID:2b401a3a-7456-4d99-9b49-2a9f0be1e284@obituaries.thomasmillermortuary.com
DTSTAMP:20260422T184136Z
DTSTART:20260516T193000Z
DTEND:20260516T200000Z
SUMMARY:Graveside Service
DESCRIPTION:
URL:https://obituaries.thomasmillermortuary.com/miguel-gonzalez
LOCATION: 11500 Arlington Avenue  Riverside CA 92505
GEO:33.9542802;-117.5170207
END:VEVENT
END:VCALENDAR