BEGIN:VCALENDAR
VERSION:2.0
PRODID:-//Tukios.com/
BEGIN:VEVENT
UID:e5027064-eef4-47ac-802a-1482d58720f6@obituaries.thomasmillermortuary.com
DTSTAMP:20260424T204929Z
DTSTART:20260501T170000Z
DTEND:20260501T180000Z
SUMMARY:Viewing
DESCRIPTION:
URL:https://obituaries.thomasmillermortuary.com/sharon-sanderfield
LOCATION: 1118 E 6th St  Corona CA 92879
GEO:33.8741833;-117.5517518
END:VEVENT
END:VCALENDAR