BEGIN:VCALENDAR
VERSION:2.0
PRODID:-//Tukios.com/
BEGIN:VEVENT
UID:41eeb920-0a44-4ec3-9a86-e4aca3ce320f@obituaries.thomasmillermortuary.com
DTSTAMP:20260424T204454Z
DTSTART:20260501T200000Z
DTEND:20260501T203000Z
SUMMARY:Burial
DESCRIPTION:
URL:https://obituaries.thomasmillermortuary.com/sharon-sanderfield
LOCATION: 3300 Central Avenue  Riverside CA 92506
GEO:33.9526352;-117.3796416
END:VEVENT
END:VCALENDAR