BEGIN:VCALENDAR
VERSION:2.0
PRODID:-//Tukios.com/
BEGIN:VEVENT
UID:78054aa5-996c-4dfb-afd5-7055d80d510b@obituaries.thomasmillermortuary.com
DTSTAMP:20260424T204929Z
DTSTART:20260501T203000Z
DTEND:20260501T213000Z
SUMMARY:Repast
DESCRIPTION:
URL:https://obituaries.thomasmillermortuary.com/sharon-sanderfield
LOCATION:Bethany Lutheran Church 1609 Hamner Ave  Norco CA 92860
GEO:33.9051876;-117.561162
END:VEVENT
END:VCALENDAR